BEGIN:VCALENDAR
VERSION:2.0
PRODID:-//185.26.156.31//NONSGML kigkonsult.se iCalcreator 2.20//
CALSCALE:GREGORIAN
METHOD:PUBLISH
X-WR-CALNAME:DT KORDALL 95
X-WR-CALDESC:Gemeng Péiteng a.s.bl.
X-FROM-URL:http://www.dtkordall.lu
X-WR-TIMEZONE:Europe/Berlin
BEGIN:VTIMEZONE
TZID:Europe/Berlin
X-LIC-LOCATION:Europe/Berlin
BEGIN:STANDARD
DTSTART:20171029T030000
TZOFFSETFROM:+0200
TZOFFSETTO:+0100
TZNAME:CET
END:STANDARD
BEGIN:DAYLIGHT
DTSTART:20180325T020000
TZOFFSETFROM:+0100
TZOFFSETTO:+0200
TZNAME:CEST
END:DAYLIGHT
END:VTIMEZONE
BEGIN:VEVENT
UID:kge2mp1357pnv5kvoesuuv9jmk@google.com
DTSTAMP:20171221T152241Z
CATEGORIES:
CONTACT:
DESCRIPTION:<p>http://www.kaerjeng.lu/affiche%20A3_inauguration_linger.jpg?
 FileID=publications%2fnewsticker%2faffiche+a3_inauguration_linger.jpg</p>
 \n<div class='shariff' data-title='' data-info-url='http://ct.de/-2467514'
  data-backend-url='http://www.dtkordall.lu/wp-content/plugins/shariff-shar
 ing/backend/index.php' data-temp='/tmp' data-ttl='60' data-service='gftlp'
  data-services='['googleplus'\,'facebook'\,'twitter'\,'linkedin'\,'pintere
 st'\,'whatsapp'\,'mail'\,'info']' data-image='' data-url='http://www.dtkor
 dall.lu/2017/11/22/rockn-x-mas/' data-lang='fr' data-theme='color' data-or
 ientation='horizontal'></div>
DTSTART;TZID=Europe/Berlin:20151122T130000
DTEND;TZID=Europe/Berlin:20151122T183000
LOCATION:Centre Sporitf Linger\, 12 rue de la Libération\, 4797 Linger
SEQUENCE:0
SUMMARY:Inauguration du nouveau Centre Sportif à Linger
URL:http://www.dtkordall.lu/event/inauguration-du-nouveau-centre-sportif-a-
 linger/
END:VEVENT
END:VCALENDAR
