BEGIN:VCALENDAR
VERSION:2.0
PRODID:-//185.26.156.31//NONSGML kigkonsult.se iCalcreator 2.20//
CALSCALE:GREGORIAN
METHOD:PUBLISH
X-WR-CALNAME:DT KORDALL 95
X-WR-CALDESC:Gemeng Péiteng a.s.bl.
X-FROM-URL:http://www.dtkordall.lu
X-WR-TIMEZONE:Europe/Berlin
BEGIN:VTIMEZONE
TZID:Europe/Berlin
X-LIC-LOCATION:Europe/Berlin
BEGIN:STANDARD
DTSTART:20171029T030000
TZOFFSETFROM:+0200
TZOFFSETTO:+0100
TZNAME:CET
END:STANDARD
BEGIN:DAYLIGHT
DTSTART:20180325T020000
TZOFFSETFROM:+0100
TZOFFSETTO:+0200
TZNAME:CEST
END:DAYLIGHT
END:VTIMEZONE
BEGIN:VEVENT
UID:geuiqsmep9p2r5lu300l0uqu64@google.com
DTSTAMP:20171221T152642Z
CATEGORIES:
CONTACT:
DESCRIPTION:
DTSTART;TZID=Europe/Berlin:20160124T090000
DTEND;TZID=Europe/Berlin:20160124T180000
SEQUENCE:0
SUMMARY:Championnats régionaux
URL:http://www.dtkordall.lu/event/championnats-regionaux/
X-ALT-DESC;FMTTYPE=text/html:<!DOCTYPE HTML PUBLIC '-//W3C//DTD HTML 3.2//E
 N'>\\n<HTML>\\n<HEAD>\\n<TITLE></TITLE>\\n</HEAD>\\n<BODY><div class='shar
 iff' data-title='' data-info-url='http://ct.de/-2467514' data-backend-url=
 'http://www.dtkordall.lu/wp-content/plugins/shariff-sharing/backend/index.
 php' data-temp='/tmp' data-ttl='60' data-service='gftlp' data-services='['
 googleplus'\,'facebook'\,'twitter'\,'linkedin'\,'pinterest'\,'whatsapp'\,'
 mail'\,'info']' data-image='' data-url='http://www.dtkordall.lu/2017/11/22
 /rockn-x-mas/' data-lang='fr' data-theme='color' data-orientation='horizon
 tal'></div></BODY></HTML>
END:VEVENT
END:VCALENDAR
