BEGIN:VCALENDAR
VERSION:2.0
PRODID:-//185.26.156.225//NONSGML kigkonsult.se iCalcreator 2.26.9//
CALSCALE:GREGORIAN
METHOD:PUBLISH
X-FROM-URL:https://www.dtkordall.lu
X-WR-TIMEZONE:Europe/Berlin
BEGIN:VTIMEZONE
TZID:Europe/Berlin
X-LIC-LOCATION:Europe/Berlin
BEGIN:STANDARD
DTSTART:20251026T030000
TZOFFSETFROM:+0200
TZOFFSETTO:+0100
RDATE:20261025T030000
TZNAME:CET
END:STANDARD
BEGIN:DAYLIGHT
DTSTART:20260329T020000
TZOFFSETFROM:+0100
TZOFFSETTO:+0200
RDATE:20270328T020000
TZNAME:CEST
END:DAYLIGHT
END:VTIMEZONE
BEGIN:VEVENT
UID:76m0dpfm530861vp2tukpofpgn@google.com
DTSTAMP:20260424T180047Z
CATEGORIES:
CONTACT:
DESCRIPTION:<div class='shariff' data-title='2. Kordaller Jugendtournoi (28
 .03.2026)' data-info-url='http://ct.de/-2467514' data-backend-url='https:/
 /www.dtkordall.lu/wp-content/plugins/shariff-sharing/backend/index.php' da
 ta-temp='/tmp' data-ttl='60' data-service='gftlp' data-services='['googlep
 lus'\,'facebook'\,'twitter'\,'linkedin'\,'pinterest'\,'whatsapp'\,'mail'\,
 'info']' data-image='' data-url='https://www.dtkordall.lu/2026/03/27/2-kor
 daller-jugendtournoi-28-03-2026/' data-lang='en' data-theme='color' data-o
 rientation='horizontal'></div>
DTSTART;VALUE=DATE:20230501
DTEND;VALUE=DATE:20230502
SEQUENCE:0
SUMMARY:Fête du 1er Mai
END:VEVENT
BEGIN:VEVENT
UID:3ji01vhvup56njod2hjhv3j9b4@google.com
DTSTAMP:20260424T180047Z
CATEGORIES:
CONTACT:
DESCRIPTION:<div class='shariff' data-title='2. Kordaller Jugendtournoi (28
 .03.2026)' data-info-url='http://ct.de/-2467514' data-backend-url='https:/
 /www.dtkordall.lu/wp-content/plugins/shariff-sharing/backend/index.php' da
 ta-temp='/tmp' data-ttl='60' data-service='gftlp' data-services='['googlep
 lus'\,'facebook'\,'twitter'\,'linkedin'\,'pinterest'\,'whatsapp'\,'mail'\,
 'info']' data-image='' data-url='https://www.dtkordall.lu/2026/03/27/2-kor
 daller-jugendtournoi-28-03-2026/' data-lang='en' data-theme='color' data-o
 rientation='horizontal'></div>
DTSTART;VALUE=DATE:20230623
DTEND;VALUE=DATE:20230624
SEQUENCE:0
SUMMARY:Fête Nationale
END:VEVENT
BEGIN:VEVENT
UID:5bvv3arj6snavbc09tpeqgsat7@google.com
DTSTAMP:20260424T180047Z
CATEGORIES:
CONTACT:
DESCRIPTION:<div class='shariff' data-title='2. Kordaller Jugendtournoi (28
 .03.2026)' data-info-url='http://ct.de/-2467514' data-backend-url='https:/
 /www.dtkordall.lu/wp-content/plugins/shariff-sharing/backend/index.php' da
 ta-temp='/tmp' data-ttl='60' data-service='gftlp' data-services='['googlep
 lus'\,'facebook'\,'twitter'\,'linkedin'\,'pinterest'\,'whatsapp'\,'mail'\,
 'info']' data-image='' data-url='https://www.dtkordall.lu/2026/03/27/2-kor
 daller-jugendtournoi-28-03-2026/' data-lang='en' data-theme='color' data-o
 rientation='horizontal'></div>
DTSTART;VALUE=DATE:20240608
DTEND;VALUE=DATE:20240609
SEQUENCE:0
SUMMARY:Nuit du Sport
END:VEVENT
BEGIN:VEVENT
UID:grh9n4qhmeftj79jr21duqjbj2n49u9jtnuntdlpn322nk8tntsucj7raa@google.com
DTSTAMP:20260424T180047Z
CATEGORIES:
CONTACT:
DESCRIPTION:<div class='shariff' data-title='2. Kordaller Jugendtournoi (28
 .03.2026)' data-info-url='http://ct.de/-2467514' data-backend-url='https:/
 /www.dtkordall.lu/wp-content/plugins/shariff-sharing/backend/index.php' da
 ta-temp='/tmp' data-ttl='60' data-service='gftlp' data-services='['googlep
 lus'\,'facebook'\,'twitter'\,'linkedin'\,'pinterest'\,'whatsapp'\,'mail'\,
 'info']' data-image='' data-url='https://www.dtkordall.lu/2026/03/27/2-kor
 daller-jugendtournoi-28-03-2026/' data-lang='en' data-theme='color' data-o
 rientation='horizontal'></div>
DTSTART;TZID=Europe/Berlin:20230506T100000
DTEND;TZID=Europe/Berlin:20230506T173000
SEQUENCE:0
SUMMARY:Championnat interne DT Kordall
END:VEVENT
BEGIN:VEVENT
UID:evvdsnn4b7gp15c0fc4pvgv8ev5penssnq5opi5577n9ide2tttirmse5o@google.com
DTSTAMP:20260424T180047Z
CATEGORIES:
CONTACT:
DESCRIPTION:<div class='shariff' data-title='2. Kordaller Jugendtournoi (28
 .03.2026)' data-info-url='http://ct.de/-2467514' data-backend-url='https:/
 /www.dtkordall.lu/wp-content/plugins/shariff-sharing/backend/index.php' da
 ta-temp='/tmp' data-ttl='60' data-service='gftlp' data-services='['googlep
 lus'\,'facebook'\,'twitter'\,'linkedin'\,'pinterest'\,'whatsapp'\,'mail'\,
 'info']' data-image='' data-url='https://www.dtkordall.lu/2026/03/27/2-kor
 daller-jugendtournoi-28-03-2026/' data-lang='en' data-theme='color' data-o
 rientation='horizontal'></div>
DTSTART;TZID=Europe/Berlin:20230513T160000
DTEND;TZID=Europe/Berlin:20230513T220000
SEQUENCE:0
SUMMARY:Nuit du Sport
END:VEVENT
BEGIN:VEVENT
UID:f5uivab5tfvc4jgkj23sdca6h73bpd5fljlkerur0fhovkgnqjqbns1vsb@google.com
DTSTAMP:20260424T180047Z
CATEGORIES:
CONTACT:
DESCRIPTION:<div class='shariff' data-title='2. Kordaller Jugendtournoi (28
 .03.2026)' data-info-url='http://ct.de/-2467514' data-backend-url='https:/
 /www.dtkordall.lu/wp-content/plugins/shariff-sharing/backend/index.php' da
 ta-temp='/tmp' data-ttl='60' data-service='gftlp' data-services='['googlep
 lus'\,'facebook'\,'twitter'\,'linkedin'\,'pinterest'\,'whatsapp'\,'mail'\,
 'info']' data-image='' data-url='https://www.dtkordall.lu/2026/03/27/2-kor
 daller-jugendtournoi-28-03-2026/' data-lang='en' data-theme='color' data-o
 rientation='horizontal'></div>
DTSTART;TZID=Europe/Berlin:20230623T100000
DTEND;TZID=Europe/Berlin:20230623T103000
LOCATION:Centre de loisirs\, Lamadelaine
SEQUENCE:0
SUMMARY:Cortège Fête Nationale
END:VEVENT
BEGIN:VEVENT
UID:305bkp0d7k2onvm82l3fp1r7pj@google.com
DTSTAMP:20260424T180047Z
CATEGORIES:
CONTACT:
DESCRIPTION:<div class='shariff' data-title='2. Kordaller Jugendtournoi (28
 .03.2026)' data-info-url='http://ct.de/-2467514' data-backend-url='https:/
 /www.dtkordall.lu/wp-content/plugins/shariff-sharing/backend/index.php' da
 ta-temp='/tmp' data-ttl='60' data-service='gftlp' data-services='['googlep
 lus'\,'facebook'\,'twitter'\,'linkedin'\,'pinterest'\,'whatsapp'\,'mail'\,
 'info']' data-image='' data-url='https://www.dtkordall.lu/2026/03/27/2-kor
 daller-jugendtournoi-28-03-2026/' data-lang='en' data-theme='color' data-o
 rientation='horizontal'></div>
DTSTART;TZID=Europe/Berlin:20230930T193000
DTEND;TZID=Europe/Berlin:20230930T213000
SEQUENCE:0
SUMMARY:1re journée CH Seniors
END:VEVENT
BEGIN:VEVENT
UID:4i16hhtgtpbtun4jgl0iqlmqi3@google.com
DTSTAMP:20260424T180047Z
CATEGORIES:
CONTACT:
DESCRIPTION:<div class='shariff' data-title='2. Kordaller Jugendtournoi (28
 .03.2026)' data-info-url='http://ct.de/-2467514' data-backend-url='https:/
 /www.dtkordall.lu/wp-content/plugins/shariff-sharing/backend/index.php' da
 ta-temp='/tmp' data-ttl='60' data-service='gftlp' data-services='['googlep
 lus'\,'facebook'\,'twitter'\,'linkedin'\,'pinterest'\,'whatsapp'\,'mail'\,
 'info']' data-image='' data-url='https://www.dtkordall.lu/2026/03/27/2-kor
 daller-jugendtournoi-28-03-2026/' data-lang='en' data-theme='color' data-o
 rientation='horizontal'></div>
DTSTART;TZID=Europe/Berlin:20231007T193000
DTEND;TZID=Europe/Berlin:20231007T213000
SEQUENCE:0
SUMMARY:2e journée CH Seniors
END:VEVENT
BEGIN:VEVENT
UID:39onpbkq9u6gpc1matnldjpian@google.com
DTSTAMP:20260424T180047Z
CATEGORIES:
CONTACT:
DESCRIPTION:<div class='shariff' data-title='2. Kordaller Jugendtournoi (28
 .03.2026)' data-info-url='http://ct.de/-2467514' data-backend-url='https:/
 /www.dtkordall.lu/wp-content/plugins/shariff-sharing/backend/index.php' da
 ta-temp='/tmp' data-ttl='60' data-service='gftlp' data-services='['googlep
 lus'\,'facebook'\,'twitter'\,'linkedin'\,'pinterest'\,'whatsapp'\,'mail'\,
 'info']' data-image='' data-url='https://www.dtkordall.lu/2026/03/27/2-kor
 daller-jugendtournoi-28-03-2026/' data-lang='en' data-theme='color' data-o
 rientation='horizontal'></div>
DTSTART;TZID=Europe/Berlin:20231014T193000
DTEND;TZID=Europe/Berlin:20231014T213000
SEQUENCE:0
SUMMARY:3e journée CH Seniors
END:VEVENT
BEGIN:VEVENT
UID:2din41o7q2tud74e1bvrmtvmia@google.com
DTSTAMP:20260424T180047Z
CATEGORIES:
CONTACT:
DESCRIPTION:<div class='shariff' data-title='2. Kordaller Jugendtournoi (28
 .03.2026)' data-info-url='http://ct.de/-2467514' data-backend-url='https:/
 /www.dtkordall.lu/wp-content/plugins/shariff-sharing/backend/index.php' da
 ta-temp='/tmp' data-ttl='60' data-service='gftlp' data-services='['googlep
 lus'\,'facebook'\,'twitter'\,'linkedin'\,'pinterest'\,'whatsapp'\,'mail'\,
 'info']' data-image='' data-url='https://www.dtkordall.lu/2026/03/27/2-kor
 daller-jugendtournoi-28-03-2026/' data-lang='en' data-theme='color' data-o
 rientation='horizontal'></div>
DTSTART;TZID=Europe/Berlin:20231021T193000
DTEND;TZID=Europe/Berlin:20231021T213000
SEQUENCE:0
SUMMARY:4e journée CH Seniors
END:VEVENT
BEGIN:VEVENT
UID:2trqhiqqum6lar40tifbivpipl@google.com
DTSTAMP:20260424T180047Z
CATEGORIES:
CONTACT:
DESCRIPTION:<div class='shariff' data-title='2. Kordaller Jugendtournoi (28
 .03.2026)' data-info-url='http://ct.de/-2467514' data-backend-url='https:/
 /www.dtkordall.lu/wp-content/plugins/shariff-sharing/backend/index.php' da
 ta-temp='/tmp' data-ttl='60' data-service='gftlp' data-services='['googlep
 lus'\,'facebook'\,'twitter'\,'linkedin'\,'pinterest'\,'whatsapp'\,'mail'\,
 'info']' data-image='' data-url='https://www.dtkordall.lu/2026/03/27/2-kor
 daller-jugendtournoi-28-03-2026/' data-lang='en' data-theme='color' data-o
 rientation='horizontal'></div>
DTSTART;TZID=Europe/Berlin:20231111T193000
DTEND;TZID=Europe/Berlin:20231111T213000
SEQUENCE:0
SUMMARY:5e journée CH Seniors
END:VEVENT
BEGIN:VEVENT
UID:79iivu11lgkpga1isj45clkde1@google.com
DTSTAMP:20260424T180047Z
CATEGORIES:
CONTACT:
DESCRIPTION:<div class='shariff' data-title='2. Kordaller Jugendtournoi (28
 .03.2026)' data-info-url='http://ct.de/-2467514' data-backend-url='https:/
 /www.dtkordall.lu/wp-content/plugins/shariff-sharing/backend/index.php' da
 ta-temp='/tmp' data-ttl='60' data-service='gftlp' data-services='['googlep
 lus'\,'facebook'\,'twitter'\,'linkedin'\,'pinterest'\,'whatsapp'\,'mail'\,
 'info']' data-image='' data-url='https://www.dtkordall.lu/2026/03/27/2-kor
 daller-jugendtournoi-28-03-2026/' data-lang='en' data-theme='color' data-o
 rientation='horizontal'></div>
DTSTART;TZID=Europe/Berlin:20231118T193000
DTEND;TZID=Europe/Berlin:20231118T213000
SEQUENCE:0
SUMMARY:6e journée CH Seniors
END:VEVENT
BEGIN:VEVENT
UID:2dvrba5medj4g0jfc1bgfuduuu@google.com
DTSTAMP:20260424T180047Z
CATEGORIES:
CONTACT:
DESCRIPTION:<div class='shariff' data-title='2. Kordaller Jugendtournoi (28
 .03.2026)' data-info-url='http://ct.de/-2467514' data-backend-url='https:/
 /www.dtkordall.lu/wp-content/plugins/shariff-sharing/backend/index.php' da
 ta-temp='/tmp' data-ttl='60' data-service='gftlp' data-services='['googlep
 lus'\,'facebook'\,'twitter'\,'linkedin'\,'pinterest'\,'whatsapp'\,'mail'\,
 'info']' data-image='' data-url='https://www.dtkordall.lu/2026/03/27/2-kor
 daller-jugendtournoi-28-03-2026/' data-lang='en' data-theme='color' data-o
 rientation='horizontal'></div>
DTSTART;TZID=Europe/Berlin:20231125T193000
DTEND;TZID=Europe/Berlin:20231125T213000
SEQUENCE:0
SUMMARY:7e journée CH Seniors
END:VEVENT
BEGIN:VEVENT
UID:2poai45e2c1628gd67oi8eiq0p@google.com
DTSTAMP:20260424T180047Z
CATEGORIES:
CONTACT:
DESCRIPTION:<div class='shariff' data-title='2. Kordaller Jugendtournoi (28
 .03.2026)' data-info-url='http://ct.de/-2467514' data-backend-url='https:/
 /www.dtkordall.lu/wp-content/plugins/shariff-sharing/backend/index.php' da
 ta-temp='/tmp' data-ttl='60' data-service='gftlp' data-services='['googlep
 lus'\,'facebook'\,'twitter'\,'linkedin'\,'pinterest'\,'whatsapp'\,'mail'\,
 'info']' data-image='' data-url='https://www.dtkordall.lu/2026/03/27/2-kor
 daller-jugendtournoi-28-03-2026/' data-lang='en' data-theme='color' data-o
 rientation='horizontal'></div>
DTSTART;TZID=Europe/Berlin:20231202T193000
DTEND;TZID=Europe/Berlin:20231202T213000
SEQUENCE:0
SUMMARY:8e journée CH Seniors
END:VEVENT
BEGIN:VEVENT
UID:0k3la036mg0gq1rjopq44melsn@google.com
DTSTAMP:20260424T180047Z
CATEGORIES:
CONTACT:
DESCRIPTION:<div class='shariff' data-title='2. Kordaller Jugendtournoi (28
 .03.2026)' data-info-url='http://ct.de/-2467514' data-backend-url='https:/
 /www.dtkordall.lu/wp-content/plugins/shariff-sharing/backend/index.php' da
 ta-temp='/tmp' data-ttl='60' data-service='gftlp' data-services='['googlep
 lus'\,'facebook'\,'twitter'\,'linkedin'\,'pinterest'\,'whatsapp'\,'mail'\,
 'info']' data-image='' data-url='https://www.dtkordall.lu/2026/03/27/2-kor
 daller-jugendtournoi-28-03-2026/' data-lang='en' data-theme='color' data-o
 rientation='horizontal'></div>
DTSTART;TZID=Europe/Berlin:20231209T193000
DTEND;TZID=Europe/Berlin:20231209T213000
SEQUENCE:0
SUMMARY:9e journée CH Seniors
END:VEVENT
BEGIN:VEVENT
UID:5fa5rplauf39pjkrmdhrmm0gah@google.com
DTSTAMP:20260424T180047Z
CATEGORIES:
CONTACT:
DESCRIPTION:<div class='shariff' data-title='2. Kordaller Jugendtournoi (28
 .03.2026)' data-info-url='http://ct.de/-2467514' data-backend-url='https:/
 /www.dtkordall.lu/wp-content/plugins/shariff-sharing/backend/index.php' da
 ta-temp='/tmp' data-ttl='60' data-service='gftlp' data-services='['googlep
 lus'\,'facebook'\,'twitter'\,'linkedin'\,'pinterest'\,'whatsapp'\,'mail'\,
 'info']' data-image='' data-url='https://www.dtkordall.lu/2026/03/27/2-kor
 daller-jugendtournoi-28-03-2026/' data-lang='en' data-theme='color' data-o
 rientation='horizontal'></div>
DTSTART;TZID=Europe/Berlin:20240113T193000
DTEND;TZID=Europe/Berlin:20240113T213000
SEQUENCE:0
SUMMARY:10e journée CH Seniors
END:VEVENT
BEGIN:VEVENT
UID:6li2m9aofbbm9s8uf4l53q6elt@google.com
DTSTAMP:20260424T180047Z
CATEGORIES:
CONTACT:
DESCRIPTION:<div class='shariff' data-title='2. Kordaller Jugendtournoi (28
 .03.2026)' data-info-url='http://ct.de/-2467514' data-backend-url='https:/
 /www.dtkordall.lu/wp-content/plugins/shariff-sharing/backend/index.php' da
 ta-temp='/tmp' data-ttl='60' data-service='gftlp' data-services='['googlep
 lus'\,'facebook'\,'twitter'\,'linkedin'\,'pinterest'\,'whatsapp'\,'mail'\,
 'info']' data-image='' data-url='https://www.dtkordall.lu/2026/03/27/2-kor
 daller-jugendtournoi-28-03-2026/' data-lang='en' data-theme='color' data-o
 rientation='horizontal'></div>
DTSTART;TZID=Europe/Berlin:20240120T193000
DTEND;TZID=Europe/Berlin:20240120T213000
SEQUENCE:0
SUMMARY:11e journée CH Seniors
END:VEVENT
BEGIN:VEVENT
UID:19umnplp94drrgi6j034opb72e@google.com
DTSTAMP:20260424T180047Z
CATEGORIES:
CONTACT:
DESCRIPTION:<div class='shariff' data-title='2. Kordaller Jugendtournoi (28
 .03.2026)' data-info-url='http://ct.de/-2467514' data-backend-url='https:/
 /www.dtkordall.lu/wp-content/plugins/shariff-sharing/backend/index.php' da
 ta-temp='/tmp' data-ttl='60' data-service='gftlp' data-services='['googlep
 lus'\,'facebook'\,'twitter'\,'linkedin'\,'pinterest'\,'whatsapp'\,'mail'\,
 'info']' data-image='' data-url='https://www.dtkordall.lu/2026/03/27/2-kor
 daller-jugendtournoi-28-03-2026/' data-lang='en' data-theme='color' data-o
 rientation='horizontal'></div>
DTSTART;TZID=Europe/Berlin:20240126T190000
DTEND;TZID=Europe/Berlin:20240126T200000
LOCATION:DT Kordall 95\, 4875 Rollingen Petingen\, Luxemburg
SEQUENCE:0
SUMMARY:Assemblée Générale DT Kordall
END:VEVENT
BEGIN:VEVENT
UID:7697f2jqint31cvfha0ipiaevf@google.com
DTSTAMP:20260424T180047Z
CATEGORIES:
CONTACT:
DESCRIPTION:<div class='shariff' data-title='2. Kordaller Jugendtournoi (28
 .03.2026)' data-info-url='http://ct.de/-2467514' data-backend-url='https:/
 /www.dtkordall.lu/wp-content/plugins/shariff-sharing/backend/index.php' da
 ta-temp='/tmp' data-ttl='60' data-service='gftlp' data-services='['googlep
 lus'\,'facebook'\,'twitter'\,'linkedin'\,'pinterest'\,'whatsapp'\,'mail'\,
 'info']' data-image='' data-url='https://www.dtkordall.lu/2026/03/27/2-kor
 daller-jugendtournoi-28-03-2026/' data-lang='en' data-theme='color' data-o
 rientation='horizontal'></div>
DTSTART;TZID=Europe/Berlin:20240127T193000
DTEND;TZID=Europe/Berlin:20240127T213000
SEQUENCE:0
SUMMARY:12e journée CH Seniors
END:VEVENT
BEGIN:VEVENT
UID:3drn7jlitsud2d9csm8ptn165f@google.com
DTSTAMP:20260424T180047Z
CATEGORIES:
CONTACT:
DESCRIPTION:<div class='shariff' data-title='2. Kordaller Jugendtournoi (28
 .03.2026)' data-info-url='http://ct.de/-2467514' data-backend-url='https:/
 /www.dtkordall.lu/wp-content/plugins/shariff-sharing/backend/index.php' da
 ta-temp='/tmp' data-ttl='60' data-service='gftlp' data-services='['googlep
 lus'\,'facebook'\,'twitter'\,'linkedin'\,'pinterest'\,'whatsapp'\,'mail'\,
 'info']' data-image='' data-url='https://www.dtkordall.lu/2026/03/27/2-kor
 daller-jugendtournoi-28-03-2026/' data-lang='en' data-theme='color' data-o
 rientation='horizontal'></div>
DTSTART;TZID=Europe/Berlin:20240224T193000
DTEND;TZID=Europe/Berlin:20240224T213000
SEQUENCE:0
SUMMARY:13e journée CH Seniors
END:VEVENT
BEGIN:VEVENT
UID:5fqs0mcrojnqanb63pu8rlamun@google.com
DTSTAMP:20260424T180047Z
CATEGORIES:
CONTACT:
DESCRIPTION:<div class='shariff' data-title='2. Kordaller Jugendtournoi (28
 .03.2026)' data-info-url='http://ct.de/-2467514' data-backend-url='https:/
 /www.dtkordall.lu/wp-content/plugins/shariff-sharing/backend/index.php' da
 ta-temp='/tmp' data-ttl='60' data-service='gftlp' data-services='['googlep
 lus'\,'facebook'\,'twitter'\,'linkedin'\,'pinterest'\,'whatsapp'\,'mail'\,
 'info']' data-image='' data-url='https://www.dtkordall.lu/2026/03/27/2-kor
 daller-jugendtournoi-28-03-2026/' data-lang='en' data-theme='color' data-o
 rientation='horizontal'></div>
DTSTART;TZID=Europe/Berlin:20240302T193000
DTEND;TZID=Europe/Berlin:20240302T213000
SEQUENCE:0
SUMMARY:14e journée CH Seniors
END:VEVENT
BEGIN:VEVENT
UID:7pasck2hfpj83gvucicffpn1ft@google.com
DTSTAMP:20260424T180047Z
CATEGORIES:
CONTACT:
DESCRIPTION:<div class='shariff' data-title='2. Kordaller Jugendtournoi (28
 .03.2026)' data-info-url='http://ct.de/-2467514' data-backend-url='https:/
 /www.dtkordall.lu/wp-content/plugins/shariff-sharing/backend/index.php' da
 ta-temp='/tmp' data-ttl='60' data-service='gftlp' data-services='['googlep
 lus'\,'facebook'\,'twitter'\,'linkedin'\,'pinterest'\,'whatsapp'\,'mail'\,
 'info']' data-image='' data-url='https://www.dtkordall.lu/2026/03/27/2-kor
 daller-jugendtournoi-28-03-2026/' data-lang='en' data-theme='color' data-o
 rientation='horizontal'></div>
DTSTART;TZID=Europe/Berlin:20240309T193000
DTEND;TZID=Europe/Berlin:20240309T213000
SEQUENCE:0
SUMMARY:15e journée CH Seniors
END:VEVENT
BEGIN:VEVENT
UID:1bns3gndtt5j672d4m1nfki3ev@google.com
DTSTAMP:20260424T180047Z
CATEGORIES:
CONTACT:
DESCRIPTION:<div class='shariff' data-title='2. Kordaller Jugendtournoi (28
 .03.2026)' data-info-url='http://ct.de/-2467514' data-backend-url='https:/
 /www.dtkordall.lu/wp-content/plugins/shariff-sharing/backend/index.php' da
 ta-temp='/tmp' data-ttl='60' data-service='gftlp' data-services='['googlep
 lus'\,'facebook'\,'twitter'\,'linkedin'\,'pinterest'\,'whatsapp'\,'mail'\,
 'info']' data-image='' data-url='https://www.dtkordall.lu/2026/03/27/2-kor
 daller-jugendtournoi-28-03-2026/' data-lang='en' data-theme='color' data-o
 rientation='horizontal'></div>
DTSTART;TZID=Europe/Berlin:20240316T193000
DTEND;TZID=Europe/Berlin:20240316T213000
SEQUENCE:0
SUMMARY:16e journée CH Seniors
END:VEVENT
BEGIN:VEVENT
UID:0p9ndtam5304mojg5ros7dl3o3@google.com
DTSTAMP:20260424T180047Z
CATEGORIES:
CONTACT:
DESCRIPTION:<div class='shariff' data-title='2. Kordaller Jugendtournoi (28
 .03.2026)' data-info-url='http://ct.de/-2467514' data-backend-url='https:/
 /www.dtkordall.lu/wp-content/plugins/shariff-sharing/backend/index.php' da
 ta-temp='/tmp' data-ttl='60' data-service='gftlp' data-services='['googlep
 lus'\,'facebook'\,'twitter'\,'linkedin'\,'pinterest'\,'whatsapp'\,'mail'\,
 'info']' data-image='' data-url='https://www.dtkordall.lu/2026/03/27/2-kor
 daller-jugendtournoi-28-03-2026/' data-lang='en' data-theme='color' data-o
 rientation='horizontal'></div>
DTSTART;TZID=Europe/Berlin:20240420T193000
DTEND;TZID=Europe/Berlin:20240420T213000
SEQUENCE:0
SUMMARY:17e journée CH Seniors
END:VEVENT
BEGIN:VEVENT
UID:6bj2ul61mt8d9fuhdqm1h1mf4i@google.com
DTSTAMP:20260424T180047Z
CATEGORIES:
CONTACT:
DESCRIPTION:<div class='shariff' data-title='2. Kordaller Jugendtournoi (28
 .03.2026)' data-info-url='http://ct.de/-2467514' data-backend-url='https:/
 /www.dtkordall.lu/wp-content/plugins/shariff-sharing/backend/index.php' da
 ta-temp='/tmp' data-ttl='60' data-service='gftlp' data-services='['googlep
 lus'\,'facebook'\,'twitter'\,'linkedin'\,'pinterest'\,'whatsapp'\,'mail'\,
 'info']' data-image='' data-url='https://www.dtkordall.lu/2026/03/27/2-kor
 daller-jugendtournoi-28-03-2026/' data-lang='en' data-theme='color' data-o
 rientation='horizontal'></div>
DTSTART;TZID=Europe/Berlin:20240427T193000
DTEND;TZID=Europe/Berlin:20240427T213000
SEQUENCE:0
SUMMARY:18e journée CH Seniors
END:VEVENT
END:VCALENDAR
